BEGIN:VCALENDAR
VERSION:2.0
PRODID:-//Tukios.com/
BEGIN:VEVENT
UID:eb2a9972-c93f-450e-ab8d-1aff937a90e9@www.hutchinsfuneral.com
DTSTAMP:20260420T191046Z
DTSTART:20260427T150000Z
DTEND:20260427T160000Z
SUMMARY:Visitation
DESCRIPTION:
URL:https://www.hutchinsfuneral.com/obituaries/thelma-kirby
LOCATION: 209 S Main St  Watervliet MI 49098
GEO:42.1857197;-86.2604789
END:VEVENT
END:VCALENDAR