BEGIN:VCALENDAR
VERSION:2.0
PRODID:-//Tukios.com/
BEGIN:VEVENT
UID:e4928aec-353b-43bb-9f99-eec593ea378b@www.hutchinsfuneral.com
DTSTAMP:20260420T191301Z
DTSTART:20260427T160000Z
DTEND:20260427T170000Z
SUMMARY:Funeral Service
DESCRIPTION:
URL:https://www.hutchinsfuneral.com/obituaries/thelma-kirby
LOCATION: 209 S Main St  Watervliet MI 49098
GEO:42.1857197;-86.2604789
END:VEVENT
END:VCALENDAR